BEGIN:VCALENDAR
VERSION:2.0
PRODID:-//SMPN 21 Purworejo - ECPv6.15.20//NONSGML v1.0//EN
CALSCALE:GREGORIAN
METHOD:PUBLISH
X-WR-CALNAME:SMPN 21 Purworejo
X-ORIGINAL-URL:https://smpn21purworejo.sch.id
X-WR-CALDESC:Events for SMPN 21 Purworejo
REFRESH-INTERVAL;VALUE=DURATION:PT1H
X-Robots-Tag:noindex
X-PUBLISHED-TTL:PT1H
BEGIN:VTIMEZONE
TZID:Asia/Jakarta
BEGIN:STANDARD
TZOFFSETFROM:+0700
TZOFFSETTO:+0700
TZNAME:WIB
DTSTART:20250101T000000
END:STANDARD
END:VTIMEZONE
BEGIN:VEVENT
DTSTART;TZID=Asia/Jakarta:20260420T000000
DTEND;TZID=Asia/Jakarta:20260425T235959
DTSTAMP:20260420T012704
CREATED:20260201T023813Z
LAST-MODIFIED:20260201T023813Z
UID:5702-1776643200-1777161599@smpn21purworejo.sch.id
SUMMARY:TKA (Perkiraaan)
DESCRIPTION:Tes Kompetensi Akademik
URL:https://smpn21purworejo.sch.id/kalender/tka-perkiraaan/
END:VEVENT
END:VCALENDAR